BEGIN:VCALENDAR
VERSION:2.0
PRODID:-//wp-events-plugin.com//7.2.3.1//EN
TZID:America/Detroit
X-WR-TIMEZONE:America/Detroit
BEGIN:VEVENT
UID:666@drloriv.com
DTSTART;TZID=America/New_York:20260513T100000
DTEND;TZID=America/New_York:20260513T103000
DTSTAMP:20260404T160716Z
URL:https://www.drloriv.com/events/dr-lori-on-abc-tvs-morning-blend-93/
SUMMARY:Dr. Lori on ABC TVs Morning Blend
DESCRIPTION:Thrift store finds valued. Watch Ph.D. Antiques Appraiser Dr. L
 ori appraise antiques live on ABC TV Tampa Bay's Morning Blend show at 10 
 am eastern in Tampa\, FL as she plays Dumpster or No Dumpster. You can wat
 ch previous broadcasts on Dr. Lori's YouTube channel. Got a thrift store f
 ind that you are curious about? Send photos to Dr. Lori to review. Contact
  www.DrLoriV.com or (888) 431-1010 with questions about this event.
ATTACH;FMTTYPE=image/jpeg:https://www.drloriv.com/wp-content/uploads/tvtal
 khost.jpg
CATEGORIES:Nationwide,TV Show
LOCATION:Nationwide\, Street\, City\, United States
X-APPLE-STRUCTURED-LOCATION;VALUE=URI;X-ADDRESS=Street\, City\, United Stat
 es;X-APPLE-RADIUS=100;X-TITLE=Nationwide:geo:0,0
END:VEVENT
BEGIN:VTIMEZONE
TZID:America/New_York
X-LIC-LOCATION:America/New_York
BEGIN:DAYLIGHT
DTSTART:20260308T030000
TZOFFSETFROM:-0500
TZOFFSETTO:-0400
TZNAME:EDT
END:DAYLIGHT
END:VTIMEZONE
END:VCALENDAR